BEGIN:VCALENDAR
VERSION:2.0
PRODID:-//Corporation de Développement Communautaire du Val-Saint-François - ECPv6.15.20//NONSGML v1.0//EN
CALSCALE:GREGORIAN
METHOD:PUBLISH
X-WR-CALNAME:Corporation de Développement Communautaire du Val-Saint-François
X-ORIGINAL-URL:https://entre-val.com
X-WR-CALDESC:évènements pour Corporation de Développement Communautaire du Val-Saint-François
REFRESH-INTERVAL;VALUE=DURATION:PT1H
X-Robots-Tag:noindex
X-PUBLISHED-TTL:PT1H
BEGIN:VTIMEZONE
TZID:America/Montreal
BEGIN:DAYLIGHT
TZOFFSETFROM:-0500
TZOFFSETTO:-0400
TZNAME:EDT
DTSTART:20250309T070000
END:DAYLIGHT
BEGIN:STANDARD
TZOFFSETFROM:-0400
TZOFFSETTO:-0500
TZNAME:EST
DTSTART:20251102T060000
END:STANDARD
BEGIN:DAYLIGHT
TZOFFSETFROM:-0500
TZOFFSETTO:-0400
TZNAME:EDT
DTSTART:20260308T070000
END:DAYLIGHT
BEGIN:STANDARD
TZOFFSETFROM:-0400
TZOFFSETTO:-0500
TZNAME:EST
DTSTART:20261101T060000
END:STANDARD
BEGIN:DAYLIGHT
TZOFFSETFROM:-0500
TZOFFSETTO:-0400
TZNAME:EDT
DTSTART:20270314T070000
END:DAYLIGHT
BEGIN:STANDARD
TZOFFSETFROM:-0400
TZOFFSETTO:-0500
TZNAME:EST
DTSTART:20271107T060000
END:STANDARD
END:VTIMEZONE
BEGIN:VEVENT
DTSTART;TZID=America/Montreal:20260423T133000
DTEND;TZID=America/Montreal:20260423T160000
DTSTAMP:20260422T185231
CREATED:20260422T133824Z
LAST-MODIFIED:20260422T133824Z
UID:7293-1776951000-1776960000@entre-val.com
SUMMARY:Table de concertation de lutte à la pauvreté et l'exclusion sociale du VSF - Rencontre extraordinaire
DESCRIPTION:
URL:https://entre-val.com/evenement/table-de-concertation-de-lutte-a-la-pauvrete-et-lexclusion-sociale-du-vsf-rencontre-extraordinaire/
LOCATION:CLSC Valcourt\, 1150 rue Champlain\, Valcourt\, QC J0E 2L0\, 1150\, rue Champlain\, Valcourt\, Québec\, J0E2L0\, Canada
ATTACH;FMTTYPE=image/png:https://entre-val.com/wp-content/uploads/2024/02/Concertation.png
ORGANIZER;CN="CDC du Val-Saint-Fran%C3%A7ois":MAILTO:cdcduvalsf@gmail.com
END:VEVENT
END:VCALENDAR